BEGIN:VCALENDAR
VERSION:2.0
CALSCALE:GREGORIAN
METHOD:PUBLISH
PRODID://GSCC//212687
BEGIN:VEVENT
DTSTAMP:20260423T094802
VTIMEZONE:America/New_York
DTSTART:20260512T180000Z
DTEND:20260512T190000Z
UID:212687
SUMMARY:How to Prepare for the GCC Conference Webinar
LOCATION:
DESCRIPTION:How to Prepare for the GCC Conference Webinar\n\n05/12/26 02:00 PM EST\n - 05/12/26 03:00 PM EST\Description:\nAre you presenting at or planning to attend the GCC Conference? Join us for a webinar designed to help you make the most of your experience: "How to Prepare for the GCC Conference" on May 12 at 2 PM EST. \n\nHosted by the GCC PDC and MGS, this webinar will include:\n\n	Remarks from GCC President Jovana Milosavljevic Ardeljan and President-Elect Bekah Layton on best practices for attendees and how to maximize your conference engagement\n	A panel of previous GCC conference presenters sharing their experiences and advice for future presenters \n	A live Q&A \n\nFeatured Panelists:\n\n\n	Jessica M. Vélez, PhD — Senior Manager, Engagement, Community Building & Professional Development, Genetics Society of America\n	Steffen Blings, PhD — Director, Graduate Career Development, The University of Chicago\n	Peter S. Myers, PhD — Associate Director, Postdoctoral Education & Partnerships, Washington University in St. Louis\n\n
X-ALT-DESC;FMTTYPE=text/html:How to Prepare for the GCC Conference Webinar<br /><br />05/12/26 02:00 PM EST - 05/12/26 03:00 PM EST<br />Description:<br />Are you presenting at or planning to attend the GCC Conference? Join us for a webinar designed to help you make the most of your experience: <strong>&quot;How to Prepare for the GCC Conference&quot; on May 12 at 2 PM EST.&nbsp;</strong><br />
<br />
<u>Hosted by the GCC PDC and MGS, this webinar will include:</u>
<ul>
	<li>Remarks from GCC President Jovana Milosavljevic Ardeljan and President-Elect Bekah Layton on best practices for attendees and how to maximize your conference engagement</li>
	<li>A panel of previous GCC conference presenters sharing their experiences and advice for future presenters&nbsp;</li>
	<li>A live Q&amp;A&nbsp;</li>
</ul>
<u>Featured Panelists:</u>

<ul>
	<li>Jessica M. V&eacute;lez, PhD &mdash; Senior Manager, Engagement, Community Building &amp; Professional Development, Genetics Society of America</li>
	<li>Steffen Blings, PhD &mdash; Director, Graduate Career Development, The University of Chicago</li>
	<li>Peter S. Myers, PhD &mdash; Associate Director, Postdoctoral Education &amp; Partnerships, Washington University in St. Louis</li>
</ul>

PRIORITY:3
TRANSP:TRANSPARENT
BEGIN:VALARM
TRIGGER:-PT5M
ACTION:DISPLAY
DESCRIPTION:Reminder
END:VALARM
END:VEVENT
END:VCALENDAR
